BEGIN:VCALENDAR
VERSION:2.0
PRODID:-//Flashback - ECPv6.8.3//NONSGML v1.0//EN
CALSCALE:GREGORIAN
METHOD:PUBLISH
X-ORIGINAL-URL:https://ensembleflashback.fr
X-WR-CALDESC:Évènements pour Flashback
REFRESH-INTERVAL;VALUE=DURATION:PT1H
X-Robots-Tag:noindex
X-PUBLISHED-TTL:PT1H
BEGIN:VTIMEZONE
TZID:UTC
BEGIN:STANDARD
TZOFFSETFROM:+0000
TZOFFSETTO:+0000
TZNAME:UTC
DTSTART:20250101T000000
END:STANDARD
END:VTIMEZONE
BEGIN:VEVENT
DTSTART;TZID=UTC:20250716T203000
DTEND;TZID=UTC:20250716T213000
DTSTAMP:20260426T030817
CREATED:20250730T133549Z
LAST-MODIFIED:20250730T133549Z
UID:8629-1752697800-1752701400@ensembleflashback.fr
SUMMARY:- ECHO - Spectacle multimédia pour violon\, harpe\, vidéo et électronique
DESCRIPTION:Echo est un spectacle musical multimédia\, avec un violon\, une harpe et une projection vidéo dans les arbres\, diffusé sur un dispositif sonore à 360 degrés pour une immersion totale.\nCe spectacle alterne des œuvres du répertoire classique et de la musique contemporaine. Le programme proposé résonne en miroir et cet écho se prolonge aussi dans la nature et vers le public qui en est le résonateur ultime. \nINTERPRÈTES\nDiego Tosi – Violon\nClaire Augier de Lajallet – Harpe\nAlexander Vert – Electronique\nENVIRONNEMENT VIDEO\nThomas Pénanguer – Artiste visuel \n 
URL:https://ensembleflashback.fr/event/echo-spectacle-multimedia-pour-violon-harpe-video-et-electronique-2/
LOCATION:St Cyprien\, Jardin des plantes\, Saint Cyprien\, 66750\, France
ATTACH;FMTTYPE=image/jpeg:https://ensembleflashback.fr/wp-content/uploads/2025/07/PHOTO-2025-07-30-15-19-46.jpg
END:VEVENT
END:VCALENDAR