BEGIN:VCALENDAR
VERSION:2.0
PRODID:-//Flashback - ECPv6.8.3//NONSGML v1.0//EN
CALSCALE:GREGORIAN
METHOD:PUBLISH
X-WR-CALNAME:Flashback
X-ORIGINAL-URL:https://ensembleflashback.fr
X-WR-CALDESC:Évènements pour Flashback
REFRESH-INTERVAL;VALUE=DURATION:PT1H
X-Robots-Tag:noindex
X-PUBLISHED-TTL:PT1H
BEGIN:VTIMEZONE
TZID:UTC
BEGIN:STANDARD
TZOFFSETFROM:+0000
TZOFFSETTO:+0000
TZNAME:UTC
DTSTART:20250101T000000
END:STANDARD
END:VTIMEZONE
BEGIN:VEVENT
DTSTART;TZID=UTC:20251102T190000
DTEND;TZID=UTC:20251102T200000
DTSTAMP:20260425T201034
CREATED:20251028T090334Z
LAST-MODIFIED:20251028T090334Z
UID:8684-1762110000-1762113600@ensembleflashback.fr
SUMMARY:MULTIBRAIN II - Festival Evimus - Saarbrucken (DE)
DESCRIPTION:Spectacle multimedia pour percussions\, électronique et environnement vidéo \nAU PROGRAMME : \nBrainstorm : Bérangère Maximin\nEn rythmoi : Octavi Rumbau\nEl Trompo : Gabriela Ortiz\nMultibrain : Alexander Vert \nInterprète : Philippe Spiesser \nEnvironnement vidéo : Thomas Pénanguer \n 
URL:https://ensembleflashback.fr/event/multibrain-ii-festival-evimus-saarbrucken-de/
LOCATION:Evimus
ATTACH;FMTTYPE=image/jpeg:https://ensembleflashback.fr/wp-content/uploads/2025/10/IMG_9202-2.jpg
END:VEVENT
END:VCALENDAR