BEGIN:VCALENDAR
VERSION:2.0
PRODID:-//Flashback - ECPv6.8.3//NONSGML v1.0//EN
CALSCALE:GREGORIAN
METHOD:PUBLISH
X-ORIGINAL-URL:https://ensembleflashback.fr
X-WR-CALDESC:Évènements pour Flashback
REFRESH-INTERVAL;VALUE=DURATION:PT1H
X-Robots-Tag:noindex
X-PUBLISHED-TTL:PT1H
BEGIN:VTIMEZONE
TZID:UTC
BEGIN:STANDARD
TZOFFSETFROM:+0000
TZOFFSETTO:+0000
TZNAME:UTC
DTSTART:20250101T000000
END:STANDARD
END:VTIMEZONE
BEGIN:VEVENT
DTSTART;TZID=UTC:20251129T080000
DTEND;TZID=UTC:20251129T170000
DTSTAMP:20260425T202452
CREATED:20251119T090403Z
LAST-MODIFIED:20251119T090403Z
UID:8728-1764403200-1764435600@ensembleflashback.fr
SUMMARY:MULTIBRAIN II - Festival Bypass
DESCRIPTION:Spectacle multimedia pour percussions\, électronique et environnement vidéo \nFestival Bypass – Toulouse – dans le cadre de « La folle nuit acousmatique » \nProgramme d’œuvres :\nBrainstorm : Bérangère Maximin\nEn rythmoi : Octavi Rumbau\nEl Trompo : Gabriela Ortiz\nMultibrain : Alexander Vert\nInterprète : Phlippe Spiesser //// Création visuelle : Thomas Pénanguer \nCONCERT\nSam. 29/11 – 20h00\nNeufNeuf – Petite salle\n151 route de Blagnac 31200 Toulouse
URL:https://ensembleflashback.fr/event/multibrain-ii-festival-bypass/
LOCATION:NeufNeuf\, 151 route de Blagnac\, Toulouse\, 31200
ATTACH;FMTTYPE=image/jpeg:https://ensembleflashback.fr/wp-content/uploads/2025/10/IMG_9202-2.jpg
END:VEVENT
END:VCALENDAR