BEGIN:VCALENDAR
VERSION:2.0
PRODID:-//Flashback - ECPv6.8.3//NONSGML v1.0//EN
CALSCALE:GREGORIAN
METHOD:PUBLISH
X-WR-CALNAME:Flashback
X-ORIGINAL-URL:https://ensembleflashback.fr
X-WR-CALDESC:Évènements pour Flashback
REFRESH-INTERVAL;VALUE=DURATION:PT1H
X-Robots-Tag:noindex
X-PUBLISHED-TTL:PT1H
BEGIN:VTIMEZONE
TZID:UTC
BEGIN:STANDARD
TZOFFSETFROM:+0000
TZOFFSETTO:+0000
TZNAME:UTC
DTSTART:20250101T000000
END:STANDARD
END:VTIMEZONE
BEGIN:VEVENT
DTSTART;TZID=UTC:20251120T203000
DTEND;TZID=UTC:20251120T233000
DTSTAMP:20260425T192106
CREATED:20251119T085121Z
LAST-MODIFIED:20251119T085121Z
UID:8726-1763670600-1763681400@ensembleflashback.fr
SUMMARY:GANTA - 8ème édition
DESCRIPTION: ElMediator – 20 novembre – 20h30 \n\nHope4Grace + Terrabastal\nElectro\nLe projet transfrontalier GANTA 8 – organisé par Flashback\, la Marfà de Gérone et en collaboration avec la Casa Musicale\, El Mediator et l’associacio Ameba – présente les lauréats de sa 8éme édition à l’occasion d’un concert consacré aux musiques électroniques et expérimentales.\nÀ l’affiche : Hope4Grace (Occitanie) et Terrabastall (Catalogne Sud)\, deux propositions singulières aux esthétiques contrastées\, unies par un même désir d’exploration sonore et d’innovation.\nCette soirée met en lumière de jeunes talents qui bousculent les codes\, entre recherche musicale\, performances live et audace créative. Une immersion dans la vitalité d’une scène émergente en pleine effervescence.
URL:https://ensembleflashback.fr/event/ganta-8eme-edition/
LOCATION:El Mediator\, 3 Rue Jean Payra\, Perpignan\, Pyrénées-Orientales\, 66000\, France
ATTACH;FMTTYPE=image/jpeg:https://ensembleflashback.fr/wp-content/uploads/2025/11/GANTA-Presentation-MMC.jpg
ORGANIZER;CN="Association Flashback":MAILTO:associationflashback66@gmail.com
END:VEVENT
END:VCALENDAR