BEGIN:VCALENDAR
VERSION:2.0
PRODID:-//Flashback - ECPv6.8.3//NONSGML v1.0//EN
CALSCALE:GREGORIAN
METHOD:PUBLISH
X-ORIGINAL-URL:https://ensembleflashback.fr
X-WR-CALDESC:Évènements pour Flashback
REFRESH-INTERVAL;VALUE=DURATION:PT1H
X-Robots-Tag:noindex
X-PUBLISHED-TTL:PT1H
BEGIN:VTIMEZONE
TZID:UTC
BEGIN:STANDARD
TZOFFSETFROM:+0000
TZOFFSETTO:+0000
TZNAME:UTC
DTSTART:20250101T000000
END:STANDARD
END:VTIMEZONE
BEGIN:VEVENT
DTSTART;TZID=UTC:20250517T203000
DTEND;TZID=UTC:20250517T213000
DTSTAMP:20260426T030327
CREATED:20250520T135411Z
LAST-MODIFIED:20250520T135411Z
UID:8455-1747513800-1747517400@ensembleflashback.fr
SUMMARY:Turn on\, Tune in \, Drop Out - Festival Traiettorie - Parme (IT)
DESCRIPTION:L’accordéoniste Fanny Vicens nous convie à un voyage sonore\, où sa virtuosité est dédoublée par son miroir électronique\, dans un passionnant dispositif lumineux de l’artiste visuel suisse Thomas Köppel qui met en résonance les œuvres musicales et la relation de la soliste avec son instrument. Une expérience d’écoute psychédélique ! \nPROGRAMME\nCantiga – Aurélio Edler-Copes\nSomething out of apocalypse – Pierre Jodlowski\nDe l’intérieur : Nùria Giménez-Comas\nTurn on\, Tune in\, Drop out : Alexander Vert\nCristallogenèse : José Miguel Fernandez – Commande d’Etat – Création 2025 \n 
URL:https://ensembleflashback.fr/event/turn-on-tune-in-drop-out-festival-traiettorie-parme-it/
LOCATION:Casa della musica de Parma\, Italy
ATTACH;FMTTYPE=image/jpeg:https://ensembleflashback.fr/wp-content/uploads/2024/08/patchwork-Photo-ToTiDo.jpg
END:VEVENT
BEGIN:VEVENT
DTSTART;TZID=UTC:20250523T213000
DTEND;TZID=UTC:20250523T220000
DTSTAMP:20260426T030327
CREATED:20250520T140541Z
LAST-MODIFIED:20250520T140541Z
UID:8460-1748035800-1748037600@ensembleflashback.fr
SUMMARY:EPHEMERES HARMONIES - Festival "MAPS Storie della Pianura"- Stories of the plains: At the roots of sound - Reggio Emilia (IT)
DESCRIPTION:La pièce Éphémères Harmonies repose sur la notion que les arbres et les plantes ne sont pas des entités isolées\, mais qu’ils entretiennent des relations complexes et symbiotiques entre eux et avec d’autres organismes.\nCette notion est utilisée pour décrire le réseau complexe de communication et d’échange de nutriments qui existe entre les arbres\, les plantes\, les champignons et d’autres organismes vivants dans les écosystèmes forestiers. Arbres et plantes sont interconnectés par le biais de réseaux racinaires\, d’échanges de composés chimiques et d’interactions symbiotiques avec des champignons mycorhiziens. Cette communication souterraine joue un rôle essentiel dans le partage de ressources\, la résistance aux maladies et la survie\ndes plantes dans la nature. Ainsi\, une autorégulation s’opère entre les\ndifférents composants de la forêt\, façonnant un univers riche en interactions et en diversité.\nCette idée constitue le fondement et la source d’inspiration de cette\ncomposition audiovisuelle.\nLes instruments de l’ensemble Icarus VS Muzak\, conjugués à l’électronique en temps réel\, et à une scénographie interactive axée sur des jeux de lumière et vidéo crées un réseau de communication complexes entre tous les éléments du système.
URL:https://ensembleflashback.fr/event/ephemeres-harmonies-festival-maps-storie-della-pianura-stories-of-the-plains-at-the-roots-of-sound-reggio-emilia-it/
LOCATION:REGGIO EMILA\, Italy
ATTACH;FMTTYPE=image/jpeg:https://ensembleflashback.fr/wp-content/uploads/2025/05/470880704_18256155358282140_5905019725555086889_n.jpg
END:VEVENT
END:VCALENDAR